Package: mzR Version: 2.45.0 Command: /home/biocbuild/bbs-3.23-bioc/R/bin/R CMD INSTALL mzR StartedAt: 2025-11-13 15:14:02 -0500 (Thu, 13 Nov 2025) EndedAt: 2025-11-13 15:22:25 -0500 (Thu, 13 Nov 2025) EllapsedTime: 503.1 seconds RetCode: 0 Status: OK