Package: mzR Version: 2.45.0 Command: /home/biocbuild/bbs-3.23-bioc/R/bin/R CMD build --keep-empty-dirs --no-resave-data mzR StartedAt: 2025-11-13 18:56:29 -0500 (Thu, 13 Nov 2025) EndedAt: 2025-11-13 19:05:06 -0500 (Thu, 13 Nov 2025) EllapsedTime: 516.5 seconds RetCode: 0 Status: OK PackageFile: mzR_2.45.0.tar.gz PackageFileSize: 7.376 MiB