Package: mzR Version: 2.45.0 Command: /Library/Frameworks/R.framework/Resources/bin/R CMD INSTALL mzR StartedAt: 2025-11-13 15:07:53 -0500 (Thu, 13 Nov 2025) EndedAt: 2025-11-13 15:10:10 -0500 (Thu, 13 Nov 2025) EllapsedTime: 137.6 seconds RetCode: 0 Status: OK