Package: mzR Version: 2.45.0 Command: /Library/Frameworks/R.framework/Resources/bin/R CMD build --keep-empty-dirs --no-resave-data mzR StartedAt: 2025-11-13 17:10:50 -0500 (Thu, 13 Nov 2025) EndedAt: 2025-11-13 17:13:23 -0500 (Thu, 13 Nov 2025) EllapsedTime: 152.8 seconds RetCode: 0 Status: OK PackageFile: mzR_2.45.0.tar.gz PackageFileSize: 7.354 MiB