Package: myvariant Version: 1.41.0 Command: /home/biocbuild/bbs-3.23-bioc/R/bin/R CMD INSTALL myvariant StartedAt: 2025-11-14 15:42:12 -0500 (Fri, 14 Nov 2025) EndedAt: 2025-11-14 15:42:55 -0500 (Fri, 14 Nov 2025) EllapsedTime: 42.5 seconds RetCode: 0 Status: OK