Package: myvariant Version: 1.41.0 Command: /home/biocbuild/bbs-3.23-bioc/R/bin/R CMD build --keep-empty-dirs --no-resave-data myvariant StartedAt: 2025-11-13 18:56:16 -0500 (Thu, 13 Nov 2025) EndedAt: 2025-11-13 18:57:23 -0500 (Thu, 13 Nov 2025) EllapsedTime: 67.1 seconds RetCode: 0 Status: OK PackageFile: myvariant_1.41.0.tar.gz PackageFileSize: 158.5 KiB