Package: myvariant Version: 1.41.0 Command: /Library/Frameworks/R.framework/Resources/bin/R CMD build --keep-empty-dirs --no-resave-data myvariant StartedAt: 2025-11-13 17:10:39 -0500 (Thu, 13 Nov 2025) EndedAt: 2025-11-13 17:11:11 -0500 (Thu, 13 Nov 2025) EllapsedTime: 31.3 seconds RetCode: 0 Status: OK PackageFile: myvariant_1.41.0.tar.gz PackageFileSize: 158.5 KiB