Package: myvariant Version: 1.41.0 Command: rm -rf myvariant.buildbin-libdir && mkdir myvariant.buildbin-libdir && /Users/biocbuild/BBS/utils/build-universal.sh myvariant_1.41.0.tar.gz /Library/Frameworks/R.framework/Resources/bin/R myvariant.buildbin-libdir StartedAt: 2025-11-13 23:48:02 -0500 (Thu, 13 Nov 2025) EndedAt: 2025-11-13 23:48:23 -0500 (Thu, 13 Nov 2025) EllapsedTime: 21.4 seconds RetCode: 0 Status: OK PackageFile: myvariant_1.41.0.tgz PackageFileSize: 218.9 KiB