Package: multtest Version: 2.67.0 Command: /home/biocbuild/bbs-3.23-bioc/R/bin/R CMD INSTALL multtest StartedAt: 2025-11-11 15:15:58 -0500 (Tue, 11 Nov 2025) EndedAt: 2025-11-11 15:16:11 -0500 (Tue, 11 Nov 2025) EllapsedTime: 13.1 seconds RetCode: 0 Status: OK