Package: multtest Version: 2.67.0 Command: /Library/Frameworks/R.framework/Resources/bin/R CMD INSTALL multtest StartedAt: 2025-11-12 15:21:30 -0500 (Wed, 12 Nov 2025) EndedAt: 2025-11-12 15:21:35 -0500 (Wed, 12 Nov 2025) EllapsedTime: 5.4 seconds RetCode: 0 Status: OK