Package: multtest Version: 2.67.0 Command: /Library/Frameworks/R.framework/Resources/bin/R CMD build --keep-empty-dirs --no-resave-data multtest StartedAt: 2025-11-12 16:48:33 -0500 (Wed, 12 Nov 2025) EndedAt: 2025-11-12 16:48:34 -0500 (Wed, 12 Nov 2025) EllapsedTime: 1.0 seconds RetCode: 0 Status: OK PackageFile: multtest_2.67.0.tar.gz PackageFileSize: 1.235 MiB