Package: multtest Version: 2.67.0 Command: rm -rf multtest.buildbin-libdir && mkdir multtest.buildbin-libdir && /Users/biocbuild/BBS/utils/build-universal.sh multtest_2.67.0.tar.gz /Library/Frameworks/R.framework/Resources/bin/R multtest.buildbin-libdir StartedAt: 2025-11-12 21:04:15 -0500 (Wed, 12 Nov 2025) EndedAt: 2025-11-12 21:04:22 -0500 (Wed, 12 Nov 2025) EllapsedTime: 7.1 seconds RetCode: 0 Status: OK PackageFile: multtest_2.67.0.tgz PackageFileSize: 834 KiB