Package: multistateQTL Version: 2.3.0 Command: /home/biocbuild/bbs-3.23-bioc/R/bin/R CMD INSTALL multistateQTL StartedAt: 2025-11-21 15:34:11 -0500 (Fri, 21 Nov 2025) EndedAt: 2025-11-21 15:34:38 -0500 (Fri, 21 Nov 2025) EllapsedTime: 27.0 seconds RetCode: 0 Status: OK