Package: multistateQTL Version: 2.3.0 Command: /home/biocbuild/bbs-3.23-bioc/R/bin/R CMD build --keep-empty-dirs --no-resave-data multistateQTL StartedAt: 2025-11-21 18:57:43 -0500 (Fri, 21 Nov 2025) EndedAt: 2025-11-21 18:58:38 -0500 (Fri, 21 Nov 2025) EllapsedTime: 55.1 seconds RetCode: 0 Status: OK PackageFile: multistateQTL_2.3.0.tar.gz PackageFileSize: 863.3 KiB