Package: multistateQTL Version: 2.3.0 Command: /Library/Frameworks/R.framework/Resources/bin/R CMD INSTALL multistateQTL StartedAt: 2025-11-13 15:19:01 -0500 (Thu, 13 Nov 2025) EndedAt: 2025-11-13 15:19:12 -0500 (Thu, 13 Nov 2025) EllapsedTime: 11.1 seconds RetCode: 0 Status: OK