Package: multistateQTL Version: 2.3.0 Command: /Library/Frameworks/R.framework/Resources/bin/R CMD build --keep-empty-dirs --no-resave-data multistateQTL StartedAt: 2025-11-14 17:06:54 -0500 (Fri, 14 Nov 2025) EndedAt: 2025-11-14 17:07:17 -0500 (Fri, 14 Nov 2025) EllapsedTime: 23.3 seconds RetCode: 0 Status: OK PackageFile: multistateQTL_2.3.0.tar.gz PackageFileSize: 859.7 KiB