Package: multistateQTL Version: 2.3.0 Command: rm -rf multistateQTL.buildbin-libdir && mkdir multistateQTL.buildbin-libdir && /Users/biocbuild/BBS/utils/build-universal.sh multistateQTL_2.3.0.tar.gz /Library/Frameworks/R.framework/Resources/bin/R multistateQTL.buildbin-libdir StartedAt: 2025-11-14 23:42:53 -0500 (Fri, 14 Nov 2025) EndedAt: 2025-11-14 23:43:07 -0500 (Fri, 14 Nov 2025) EllapsedTime: 13.3 seconds RetCode: 0 Status: OK PackageFile: multistateQTL_2.3.0.tgz PackageFileSize: 940.7 KiB