Package: multicrispr Version: 1.21.0 Command: /home/biocbuild/bbs-3.23-bioc/R/bin/R CMD INSTALL multicrispr StartedAt: 2025-11-14 15:45:32 -0500 (Fri, 14 Nov 2025) EndedAt: 2025-11-14 15:46:09 -0500 (Fri, 14 Nov 2025) EllapsedTime: 36.8 seconds RetCode: 0 Status: OK