Package: multicrispr Version: 1.21.0 Command: /Library/Frameworks/R.framework/Resources/bin/R CMD build --keep-empty-dirs --no-resave-data multicrispr StartedAt: 2025-11-13 17:09:26 -0500 (Thu, 13 Nov 2025) EndedAt: 2025-11-13 17:10:01 -0500 (Thu, 13 Nov 2025) EllapsedTime: 34.4 seconds RetCode: 0 Status: OK PackageFile: multicrispr_1.21.0.tar.gz PackageFileSize: 2.586 MiB