Package: multicrispr Version: 1.21.0 Command: rm -rf multicrispr.buildbin-libdir && mkdir multicrispr.buildbin-libdir && /Users/biocbuild/BBS/utils/build-universal.sh multicrispr_1.21.0.tar.gz /Library/Frameworks/R.framework/Resources/bin/R multicrispr.buildbin-libdir StartedAt: 2025-11-13 23:47:38 -0500 (Thu, 13 Nov 2025) EndedAt: 2025-11-13 23:47:57 -0500 (Thu, 13 Nov 2025) EllapsedTime: 18.4 seconds RetCode: 0 Status: OK PackageFile: multicrispr_1.21.0.tgz PackageFileSize: 2.746 MiB