Package: multicrispr Version: 1.21.0 Maintainer: Aditya Bhagwat MaintainerEmail: aditya.bhagwat at uni-marburg.de git_url: https://git.bioconductor.org/packages/multicrispr git_branch: devel git_last_commit: 67e223f git_last_commit_date: 2025-10-29 10:59:55 -0500 (Wed, 29 Oct 2025)