Package: multiWGCNA Version: 1.9.0 Command: /home/biocbuild/bbs-3.23-bioc/R/bin/R CMD INSTALL multiWGCNA StartedAt: 2025-11-11 15:48:27 -0500 (Tue, 11 Nov 2025) EndedAt: 2025-11-11 15:49:00 -0500 (Tue, 11 Nov 2025) EllapsedTime: 33.2 seconds RetCode: 0 Status: OK