Package: multiWGCNA Version: 1.9.0 Command: /home/biocbuild/bbs-3.23-bioc/R/bin/R CMD build --keep-empty-dirs --no-resave-data multiWGCNA StartedAt: 2025-11-13 18:54:59 -0500 (Thu, 13 Nov 2025) EndedAt: 2025-11-13 18:59:03 -0500 (Thu, 13 Nov 2025) EllapsedTime: 244.2 seconds RetCode: 0 Status: OK PackageFile: multiWGCNA_1.9.0.tar.gz PackageFileSize: 3.424 MiB