Package: multiWGCNA Version: 1.9.0 Command: /Library/Frameworks/R.framework/Resources/bin/R CMD INSTALL multiWGCNA StartedAt: 2025-11-13 15:27:08 -0500 (Thu, 13 Nov 2025) EndedAt: 2025-11-13 15:27:21 -0500 (Thu, 13 Nov 2025) EllapsedTime: 13.2 seconds RetCode: 0 Status: OK