Package: multiWGCNA Version: 1.9.0 Command: rm -rf multiWGCNA.buildbin-libdir && mkdir multiWGCNA.buildbin-libdir && /Users/biocbuild/BBS/utils/build-universal.sh multiWGCNA_1.9.0.tar.gz /Library/Frameworks/R.framework/Resources/bin/R multiWGCNA.buildbin-libdir StartedAt: 2025-11-13 23:47:49 -0500 (Thu, 13 Nov 2025) EndedAt: 2025-11-13 23:48:05 -0500 (Thu, 13 Nov 2025) EllapsedTime: 16.3 seconds RetCode: 0 Status: OK PackageFile: multiWGCNA_1.9.0.tgz PackageFileSize: 3.957 MiB