Package: multiWGCNA Version: 1.9.0 Maintainer: Dario Tommasini MaintainerEmail: dtommasini0 at gmail.com git_url: https://git.bioconductor.org/packages/multiWGCNA git_branch: devel git_last_commit: 40a34c6 git_last_commit_date: 2025-10-29 11:24:20 -0500 (Wed, 29 Oct 2025)