Package: multiMiR Version: 1.33.0 Command: /home/biocbuild/bbs-3.23-bioc/R/bin/R CMD INSTALL multiMiR StartedAt: 2025-11-14 15:26:29 -0500 (Fri, 14 Nov 2025) EndedAt: 2025-11-14 15:26:56 -0500 (Fri, 14 Nov 2025) EllapsedTime: 26.3 seconds RetCode: 0 Status: OK