Package: multiMiR Version: 1.33.0 Command: /Library/Frameworks/R.framework/Resources/bin/R CMD INSTALL multiMiR StartedAt: 2025-11-13 15:08:53 -0500 (Thu, 13 Nov 2025) EndedAt: 2025-11-13 15:09:00 -0500 (Thu, 13 Nov 2025) EllapsedTime: 6.8 seconds RetCode: 0 Status: OK