Package: multiMiR Version: 1.33.0 Command: /Library/Frameworks/R.framework/Resources/bin/R CMD build --keep-empty-dirs --no-resave-data multiMiR StartedAt: 2025-11-13 17:09:33 -0500 (Thu, 13 Nov 2025) EndedAt: 2025-11-13 17:10:21 -0500 (Thu, 13 Nov 2025) EllapsedTime: 48.5 seconds RetCode: 0 Status: OK PackageFile: multiMiR_1.33.0.tar.gz PackageFileSize: 331.9 KiB