Package: multiMiR Version: 1.33.0 Command: rm -rf multiMiR.buildbin-libdir && mkdir multiMiR.buildbin-libdir && /Users/biocbuild/BBS/utils/build-universal.sh multiMiR_1.33.0.tar.gz /Library/Frameworks/R.framework/Resources/bin/R multiMiR.buildbin-libdir StartedAt: 2025-11-13 23:47:44 -0500 (Thu, 13 Nov 2025) EndedAt: 2025-11-13 23:47:52 -0500 (Thu, 13 Nov 2025) EllapsedTime: 8.2 seconds RetCode: 0 Status: OK PackageFile: multiMiR_1.33.0.tgz PackageFileSize: 633.8 KiB