Package: multiMiR Version: 1.33.0 Maintainer: Spencer Mahaffey MaintainerEmail: Spencer.Mahaffey at cuanschutz.edu git_url: https://git.bioconductor.org/packages/multiMiR git_branch: devel git_last_commit: a6fc7f8 git_last_commit_date: 2025-10-29 10:40:52 -0500 (Wed, 29 Oct 2025)