Package: multiHiCcompare Version: 1.29.0 Command: /home/biocbuild/bbs-3.23-bioc/R/bin/R CMD INSTALL multiHiCcompare StartedAt: 2025-11-13 15:31:46 -0500 (Thu, 13 Nov 2025) EndedAt: 2025-11-13 15:32:16 -0500 (Thu, 13 Nov 2025) EllapsedTime: 30.5 seconds RetCode: 0 Status: OK