Package: multiHiCcompare Version: 1.29.0 Command: /Library/Frameworks/R.framework/Resources/bin/R CMD INSTALL multiHiCcompare StartedAt: 2025-11-12 15:33:40 -0500 (Wed, 12 Nov 2025) EndedAt: 2025-11-12 15:33:41 -0500 (Wed, 12 Nov 2025) EllapsedTime: 0.3 seconds RetCode: 1 Status: ERROR