Package: multiGSEA Version: 1.21.0 Command: /Library/Frameworks/R.framework/Resources/bin/R CMD build --keep-empty-dirs --no-resave-data multiGSEA StartedAt: 2025-11-13 17:09:28 -0500 (Thu, 13 Nov 2025) EndedAt: 2025-11-13 17:19:18 -0500 (Thu, 13 Nov 2025) EllapsedTime: 589.7 seconds RetCode: 0 Status: OK PackageFile: multiGSEA_1.21.0.tar.gz PackageFileSize: 952.8 KiB