Package: multiGSEA Version: 1.21.0 Command: rm -rf multiGSEA.buildbin-libdir && mkdir multiGSEA.buildbin-libdir && /Users/biocbuild/BBS/utils/build-universal.sh multiGSEA_1.21.0.tar.gz /Library/Frameworks/R.framework/Resources/bin/R multiGSEA.buildbin-libdir StartedAt: 2025-11-13 23:47:39 -0500 (Thu, 13 Nov 2025) EndedAt: 2025-11-13 23:48:20 -0500 (Thu, 13 Nov 2025) EllapsedTime: 40.8 seconds RetCode: 0 Status: OK PackageFile: multiGSEA_1.21.0.tgz PackageFileSize: 983.2 KiB