Package: multiGSEA Version: 1.21.0 Maintainer: Sebastian Canzler MaintainerEmail: sebastian.canzler at ufz.de git_url: https://git.bioconductor.org/packages/multiGSEA git_branch: devel git_last_commit: 7e0f16c git_last_commit_date: 2025-10-29 11:00:17 -0500 (Wed, 29 Oct 2025)