Package: multiClust Version: 1.41.0 Command: /home/biocbuild/bbs-3.23-bioc/R/bin/R CMD INSTALL multiClust StartedAt: 2025-11-13 15:08:36 -0500 (Thu, 13 Nov 2025) EndedAt: 2025-11-13 15:08:45 -0500 (Thu, 13 Nov 2025) EllapsedTime: 8.3 seconds RetCode: 0 Status: OK