Package: multiClust Version: 1.41.0 Command: /home/biocbuild/bbs-3.23-bioc/R/bin/R CMD build --keep-empty-dirs --no-resave-data multiClust StartedAt: 2025-11-13 18:54:17 -0500 (Thu, 13 Nov 2025) EndedAt: 2025-11-13 18:54:44 -0500 (Thu, 13 Nov 2025) EllapsedTime: 27.0 seconds RetCode: 0 Status: OK PackageFile: multiClust_1.41.0.tar.gz PackageFileSize: 3.025 MiB