Package: multiClust Version: 1.41.0 Command: /Library/Frameworks/R.framework/Resources/bin/R CMD build --keep-empty-dirs --no-resave-data multiClust StartedAt: 2025-11-12 16:48:07 -0500 (Wed, 12 Nov 2025) EndedAt: 2025-11-12 16:48:19 -0500 (Wed, 12 Nov 2025) EllapsedTime: 12.1 seconds RetCode: 0 Status: OK PackageFile: multiClust_1.41.0.tar.gz PackageFileSize: 3.049 MiB