Package: multiClust Version: 1.41.0 Command: rm -rf multiClust.buildbin-libdir && mkdir multiClust.buildbin-libdir && /Users/biocbuild/BBS/utils/build-universal.sh multiClust_1.41.0.tar.gz /Library/Frameworks/R.framework/Resources/bin/R multiClust.buildbin-libdir StartedAt: 2025-11-12 21:04:09 -0500 (Wed, 12 Nov 2025) EndedAt: 2025-11-12 21:04:14 -0500 (Wed, 12 Nov 2025) EllapsedTime: 5.1 seconds RetCode: 0 Status: OK PackageFile: multiClust_1.41.0.tgz PackageFileSize: 3.102 MiB