Package: msqrob2 Version: 1.19.0 Command: /home/biocbuild/bbs-3.23-bioc/R/bin/R CMD INSTALL msqrob2 StartedAt: 2025-11-14 15:35:59 -0500 (Fri, 14 Nov 2025) EndedAt: 2025-11-14 15:36:28 -0500 (Fri, 14 Nov 2025) EllapsedTime: 29.9 seconds RetCode: 0 Status: OK