Package: msqrob2 Version: 1.19.0 Command: /Library/Frameworks/R.framework/Resources/bin/R CMD INSTALL msqrob2 StartedAt: 2025-11-12 15:36:13 -0500 (Wed, 12 Nov 2025) EndedAt: 2025-11-12 15:36:24 -0500 (Wed, 12 Nov 2025) EllapsedTime: 11.2 seconds RetCode: 0 Status: OK