Package: msqrob2 Version: 1.19.0 Command: /Library/Frameworks/R.framework/Resources/bin/R CMD build --keep-empty-dirs --no-resave-data msqrob2 StartedAt: 2025-11-12 16:47:24 -0500 (Wed, 12 Nov 2025) EndedAt: 2025-11-12 16:47:45 -0500 (Wed, 12 Nov 2025) EllapsedTime: 21.3 seconds RetCode: 1 Status: ERROR PackageFile: None PackageFileSize: NA