Package: msmsTests Version: 1.49.0 Command: /Library/Frameworks/R.framework/Resources/bin/R CMD INSTALL msmsTests StartedAt: 2025-11-14 15:22:55 -0500 (Fri, 14 Nov 2025) EndedAt: 2025-11-14 15:23:10 -0500 (Fri, 14 Nov 2025) EllapsedTime: 15.6 seconds RetCode: 0 Status: OK