Package: msmsTests Version: 1.49.0 Command: /Library/Frameworks/R.framework/Resources/bin/R CMD build --keep-empty-dirs --no-resave-data msmsTests StartedAt: 2025-11-13 17:07:52 -0500 (Thu, 13 Nov 2025) EndedAt: 2025-11-13 17:08:25 -0500 (Thu, 13 Nov 2025) EllapsedTime: 32.4 seconds RetCode: 0 Status: OK PackageFile: msmsTests_1.49.0.tar.gz PackageFileSize: 549.2 KiB