Package: msmsTests Version: 1.49.0 Command: rm -rf msmsTests.buildbin-libdir && mkdir msmsTests.buildbin-libdir && /Users/biocbuild/BBS/utils/build-universal.sh msmsTests_1.49.0.tar.gz /Library/Frameworks/R.framework/Resources/bin/R msmsTests.buildbin-libdir StartedAt: 2025-11-13 23:47:07 -0500 (Thu, 13 Nov 2025) EndedAt: 2025-11-13 23:47:25 -0500 (Thu, 13 Nov 2025) EllapsedTime: 18.3 seconds RetCode: 0 Status: OK PackageFile: msmsTests_1.49.0.tgz PackageFileSize: 584.8 KiB