Package: msmsEDA Version: 1.49.0 Command: /home/biocbuild/bbs-3.23-bioc/R/bin/R CMD INSTALL msmsEDA StartedAt: 2025-11-13 15:37:19 -0500 (Thu, 13 Nov 2025) EndedAt: 2025-11-13 15:37:57 -0500 (Thu, 13 Nov 2025) EllapsedTime: 37.9 seconds RetCode: 0 Status: OK