Package: msmsEDA Version: 1.49.0 Maintainer: Josep Gregori MaintainerEmail: josep.gregori at gmail.com git_url: https://git.bioconductor.org/packages/msmsEDA git_branch: devel git_last_commit: 713cab1 git_last_commit_date: 2025-10-29 10:15:42 -0500 (Wed, 29 Oct 2025)