Package: mslp Version: 1.13.0 Command: /home/biocbuild/bbs-3.23-bioc/R/bin/R CMD INSTALL mslp StartedAt: 2025-11-16 15:27:56 -0500 (Sun, 16 Nov 2025) EndedAt: 2025-11-16 15:28:00 -0500 (Sun, 16 Nov 2025) EllapsedTime: 3.4 seconds RetCode: 0 Status: OK