Package: mslp Version: 1.13.0 Command: /Library/Frameworks/R.framework/Resources/bin/R CMD build --keep-empty-dirs --no-resave-data mslp StartedAt: 2025-11-12 16:47:18 -0500 (Wed, 12 Nov 2025) EndedAt: 2025-11-12 16:47:35 -0500 (Wed, 12 Nov 2025) EllapsedTime: 17.2 seconds RetCode: 0 Status: OK PackageFile: mslp_1.13.0.tar.gz PackageFileSize: 407.6 KiB